BEGIN:VCALENDAR
VERSION:2.0
PRODID:-//Squarespace Inc/Squarespace 6//v6//EN
BEGIN:VEVENT
UID:5c3fb1126d2a73cd8eb3bf80@squarespace.com
DTSTAMP:20191030T010356Z
DTSTART:20190905T070000Z
DTEND:20190907T010000Z
SUMMARY:Leading Missional Communities (Taranaki)
GEO:-43.526163;172.578088
LOCATION:TBC\, New Plymouth\, New Zealand
END:VEVENT
END:VCALENDAR
