BEGIN:VCALENDAR
VERSION:2.0
PRODID:-//Squarespace Inc/Squarespace 6//v6//EN
BEGIN:VEVENT
UID:5c3fb1a021c67cb012e0cbe7@squarespace.com
DTSTAMP:20190116T225242Z
DTSTART:20190502T060000Z
DTEND:20190503T040000Z
SUMMARY:Community of Practice #1 (Christchurch)
GEO:-43.532054;172.636225
LOCATION:TBC\, Christchurch
END:VEVENT
END:VCALENDAR
