BEGIN:VCALENDAR
VERSION:2.0
PRODID:-//Squarespace Inc/Squarespace 6//v6//EN
BEGIN:VEVENT
UID:5d8c04bf667f4047f4a7566b@squarespace.com
DTSTAMP:20190926T003558Z
DTSTART:20191018T203000Z
DTEND:20191019T030000Z
SUMMARY:Wellington Regional Learning Community Day
GEO:-41.226922;174.882244
LOCATION:Petone Baptist Church\, 38 Buick St\, Petone
END:VEVENT
END:VCALENDAR
