BEGIN:VCALENDAR
VERSION:2.0
PRODID:-//Squarespace Inc/Squarespace 6//v6//EN
BEGIN:VEVENT
UID:5b2037908a922d6f5da6db49@squarespace.com
DTSTAMP:20190116T225453Z
DTSTART:20181028T210000Z
DTEND:20181031T040000Z
SUMMARY:Leading Kingdom Movements (Christchurch)
GEO:-43.53449;172.571653
LOCATION:La Vida Centre\, 34A Hansons Lane\, Christchurch\, Canterbury\, 80
 41\, New Zealand
END:VEVENT
END:VCALENDAR
