BEGIN:VCALENDAR
VERSION:2.0
PRODID:-//Squarespace Inc/Squarespace 6//v6//EN
BEGIN:VEVENT
UID:5a9dc9ab652dea4758af95a9@squarespace.com
DTSTAMP:20190116T222629Z
DTSTART:20180507T220000Z
DTEND:20180510T050000Z
SUMMARY:Leading Missional Communities (Christchurch)
GEO:-43.53449;172.571653
LOCATION:La Vida Centre\, 34A Hansons Lane\, Christchurch\, Canterbury\, 80
 41\, New Zealand
END:VEVENT
END:VCALENDAR
